BEGIN:VCALENDAR
VERSION:2.0
PRODID:JMS Hockey
X-PUBLISHED-TTL:P1W
BEGIN:VEVENT
UID:69e7c74332250
DTSTART:20091201T034500Z
SEQUENCE:0
TRANSP:OPAQUE
DTEND:20091201T051500Z
URL:http://jmshockey.com/games/1046
LOCATION:Bloomington Ice Gardens
SUMMARY:Level 2 Game at Bloomington Ice Gardens
CLASS:PUBLIC
DTSTAMP:20260421T135147Z
END:VEVENT
END:VCALENDAR