BEGIN:VCALENDAR
VERSION:2.0
PRODID:JMS Hockey
X-PUBLISHED-TTL:P1W
BEGIN:VEVENT
UID:69e787b48b176
DTSTART:20171025T014500Z
SEQUENCE:0
TRANSP:OPAQUE
DTEND:20171025T031500Z
URL:http://jmshockey.com/games/10457
LOCATION:Eden Prairie Comm Ctr
SUMMARY:Upper Level Game at Eden Prairie Comm Ctr
CLASS:PUBLIC
DTSTAMP:20260421T092036Z
END:VEVENT
END:VCALENDAR