BEGIN:VCALENDAR
VERSION:2.0
PRODID:JMS Hockey
X-PUBLISHED-TTL:P1W
BEGIN:VEVENT
UID:69e7ade76197c
DTSTART:20171021T010000Z
SEQUENCE:0
TRANSP:OPAQUE
DTEND:20171021T023000Z
URL:http://jmshockey.com/games/10451
LOCATION:Parade Ice Gardens
SUMMARY:Upper Level Game at Parade Ice Gardens
CLASS:PUBLIC
DTSTAMP:20260421T120335Z
END:VEVENT
END:VCALENDAR