BEGIN:VCALENDAR
VERSION:2.0
PRODID:JMS Hockey
X-PUBLISHED-TTL:P1W
BEGIN:VEVENT
UID:69e79a6750907
DTSTART:20171102T014000Z
SEQUENCE:0
TRANSP:OPAQUE
DTEND:20171102T031000Z
URL:http://jmshockey.com/games/10444
LOCATION:Doug Woog Arena (Wakota)
SUMMARY:Level 3 Game at Doug Woog Arena (Wakota)
CLASS:PUBLIC
DTSTAMP:20260421T104023Z
END:VEVENT
END:VCALENDAR