BEGIN:VCALENDAR
VERSION:2.0
PRODID:JMS Hockey
X-PUBLISHED-TTL:P1W
BEGIN:VEVENT
UID:69e73a437fc4f
DTSTART:20171003T013000Z
SEQUENCE:0
TRANSP:OPAQUE
DTEND:20171003T030000Z
URL:http://jmshockey.com/games/10430
LOCATION:Doug Woog Arena (Wakota)
SUMMARY:Lower Level Game at Doug Woog Arena (Wakota)
CLASS:PUBLIC
DTSTAMP:20260421T035011Z
END:VEVENT
END:VCALENDAR