BEGIN:VCALENDAR
VERSION:2.0
PRODID:JMS Hockey
X-PUBLISHED-TTL:P1W
BEGIN:VEVENT
UID:69e7c36c168c7
DTSTART:20171028T030000Z
SEQUENCE:0
TRANSP:OPAQUE
DTEND:20171028T043000Z
URL:http://jmshockey.com/games/10403
LOCATION:Schwan Superrink
SUMMARY:All level Game at Schwan Superrink
CLASS:PUBLIC
DTSTAMP:20260421T133524Z
END:VEVENT
END:VCALENDAR