BEGIN:VCALENDAR
VERSION:2.0
PRODID:JMS Hockey
X-PUBLISHED-TTL:P1W
BEGIN:VEVENT
UID:69e7b18f0af82
DTSTART:20170922T024000Z
SEQUENCE:0
TRANSP:OPAQUE
DTEND:20170922T041000Z
URL:http://jmshockey.com/games/10387
LOCATION:St Thomas Ice Arena
SUMMARY:All level Game at St Thomas Ice Arena
CLASS:PUBLIC
DTSTAMP:20260421T121911Z
END:VEVENT
END:VCALENDAR