BEGIN:VCALENDAR
VERSION:2.0
PRODID:JMS Hockey
X-PUBLISHED-TTL:P1W
BEGIN:VEVENT
UID:69e789f4ece8f
DTSTART:20170921T020000Z
SEQUENCE:0
TRANSP:OPAQUE
DTEND:20170921T033000Z
URL:http://jmshockey.com/games/10347
LOCATION:Tartan Arena
SUMMARY:Lower Level Game at Tartan Arena
CLASS:PUBLIC
DTSTAMP:20260421T093012Z
END:VEVENT
END:VCALENDAR