BEGIN:VCALENDAR
VERSION:2.0
PRODID:JMS Hockey
X-PUBLISHED-TTL:P1W
BEGIN:VEVENT
UID:69e7d4dd00d3c
DTSTART:20091125T033000Z
SEQUENCE:0
TRANSP:OPAQUE
DTEND:20091125T050000Z
URL:http://jmshockey.com/games/1034
LOCATION:Fogerty Icehouse
SUMMARY:Level 3 Game at Fogerty Icehouse
CLASS:PUBLIC
DTSTAMP:20260421T144949Z
END:VEVENT
END:VCALENDAR