BEGIN:VCALENDAR
VERSION:2.0
PRODID:JMS Hockey
X-PUBLISHED-TTL:P1W
BEGIN:VEVENT
UID:69e7a357dc1f2
DTSTART:20170913T021500Z
SEQUENCE:0
TRANSP:OPAQUE
DTEND:20170913T034500Z
URL:http://jmshockey.com/games/10317
LOCATION:Maple Grove
SUMMARY:Intermediate Game at Maple Grove
CLASS:PUBLIC
DTSTAMP:20260421T111831Z
END:VEVENT
END:VCALENDAR