BEGIN:VCALENDAR
VERSION:2.0
PRODID:JMS Hockey
X-PUBLISHED-TTL:P1W
BEGIN:VEVENT
UID:69e795badd7bf
DTSTART:20170923T013000Z
SEQUENCE:0
TRANSP:OPAQUE
DTEND:20170923T030000Z
URL:http://jmshockey.com/games/10315
LOCATION:Eden Prairie Comm Ctr
SUMMARY:Intermediate Game at Eden Prairie Comm Ctr
CLASS:PUBLIC
DTSTAMP:20260421T102026Z
END:VEVENT
END:VCALENDAR