BEGIN:VCALENDAR
VERSION:2.0
PRODID:JMS Hockey
X-PUBLISHED-TTL:P1W
BEGIN:VEVENT
UID:69e7e6d1b2ed3
DTSTART:20170909T011500Z
SEQUENCE:0
TRANSP:OPAQUE
DTEND:20170909T024500Z
URL:http://jmshockey.com/games/10312
LOCATION:Eden Prairie Comm Ctr
SUMMARY:Intermediate Game at Eden Prairie Comm Ctr
CLASS:PUBLIC
DTSTAMP:20260421T160625Z
END:VEVENT
END:VCALENDAR