BEGIN:VCALENDAR
VERSION:2.0
PRODID:JMS Hockey
X-PUBLISHED-TTL:P1W
BEGIN:VEVENT
UID:69e7b1430bd30
DTSTART:20170908T020000Z
SEQUENCE:0
TRANSP:OPAQUE
DTEND:20170908T033000Z
URL:http://jmshockey.com/games/10298
LOCATION:Apple Valley Hayes Park Arena
SUMMARY:Intermediate Game at Apple Valley Hayes Park Arena
CLASS:PUBLIC
DTSTAMP:20260421T121755Z
END:VEVENT
END:VCALENDAR