BEGIN:VCALENDAR
VERSION:2.0
PRODID:JMS Hockey
X-PUBLISHED-TTL:P1W
BEGIN:VEVENT
UID:69e7afa3d86f8
DTSTART:20170920T020000Z
SEQUENCE:0
TRANSP:OPAQUE
DTEND:20170920T033000Z
URL:http://jmshockey.com/games/10296
LOCATION:Apple Valley Hayes Park Arena
SUMMARY:Lower Level Game at Apple Valley Hayes Park Arena
CLASS:PUBLIC
DTSTAMP:20260421T121059Z
END:VEVENT
END:VCALENDAR