BEGIN:VCALENDAR
VERSION:2.0
PRODID:JMS Hockey
X-PUBLISHED-TTL:P1W
BEGIN:VEVENT
UID:69e7c3c26de39
DTSTART:20170822T025000Z
SEQUENCE:0
TRANSP:OPAQUE
DTEND:20170822T042000Z
URL:http://jmshockey.com/games/10293
LOCATION:Doug Woog Arena (Wakota)
SUMMARY:Lower Level Game at Doug Woog Arena (Wakota)
CLASS:PUBLIC
DTSTAMP:20260421T133650Z
END:VEVENT
END:VCALENDAR