BEGIN:VCALENDAR
VERSION:2.0
PRODID:JMS Hockey
X-PUBLISHED-TTL:P1W
BEGIN:VEVENT
UID:69e7af2bb86aa
DTSTART:20170829T021000Z
SEQUENCE:0
TRANSP:OPAQUE
DTEND:20170829T034000Z
URL:http://jmshockey.com/games/10290
LOCATION:Doug Woog Arena (Wakota)
SUMMARY:Lower Level Game at Doug Woog Arena (Wakota)
CLASS:PUBLIC
DTSTAMP:20260421T120859Z
END:VEVENT
END:VCALENDAR