BEGIN:VCALENDAR
VERSION:2.0
PRODID:JMS Hockey
X-PUBLISHED-TTL:P1W
BEGIN:VEVENT
UID:69e7961d5616a
DTSTART:20170815T011500Z
SEQUENCE:0
TRANSP:OPAQUE
DTEND:20170815T024500Z
URL:http://jmshockey.com/games/10280
LOCATION:Roseville Skating Center
SUMMARY:Intermediate Game at Roseville Skating Center
CLASS:PUBLIC
DTSTAMP:20260421T102205Z
END:VEVENT
END:VCALENDAR