BEGIN:VCALENDAR
VERSION:2.0
PRODID:JMS Hockey
X-PUBLISHED-TTL:P1W
BEGIN:VEVENT
UID:69e7a3b3af3db
DTSTART:20170829T024000Z
SEQUENCE:0
TRANSP:OPAQUE
DTEND:20170829T041000Z
URL:http://jmshockey.com/games/10264
LOCATION:St Thomas Ice Arena
SUMMARY:Elite Game at St Thomas Ice Arena
CLASS:PUBLIC
DTSTAMP:20260421T112003Z
END:VEVENT
END:VCALENDAR