BEGIN:VCALENDAR
VERSION:2.0
PRODID:JMS Hockey
X-PUBLISHED-TTL:P1W
BEGIN:VEVENT
UID:69e7a3814e596
DTSTART:20170822T024000Z
SEQUENCE:0
TRANSP:OPAQUE
DTEND:20170822T041000Z
URL:http://jmshockey.com/games/10263
LOCATION:St Thomas Ice Arena
SUMMARY:Elite Game at St Thomas Ice Arena
CLASS:PUBLIC
DTSTAMP:20260421T111913Z
END:VEVENT
END:VCALENDAR