BEGIN:VCALENDAR
VERSION:2.0
PRODID:JMS Hockey
X-PUBLISHED-TTL:P1W
BEGIN:VEVENT
UID:69e7b140c91d8
DTSTART:20170901T024000Z
SEQUENCE:0
TRANSP:OPAQUE
DTEND:20170901T041000Z
URL:http://jmshockey.com/games/10260
LOCATION:St Thomas Ice Arena
SUMMARY:All level Game at St Thomas Ice Arena
CLASS:PUBLIC
DTSTAMP:20260421T121752Z
END:VEVENT
END:VCALENDAR