BEGIN:VCALENDAR
VERSION:2.0
PRODID:JMS Hockey
X-PUBLISHED-TTL:P1W
BEGIN:VEVENT
UID:69e7aefed128d
DTSTART:20170818T024000Z
SEQUENCE:0
TRANSP:OPAQUE
DTEND:20170818T041000Z
URL:http://jmshockey.com/games/10258
LOCATION:St Thomas Ice Arena
SUMMARY:All level Game at St Thomas Ice Arena
CLASS:PUBLIC
DTSTAMP:20260421T120814Z
END:VEVENT
END:VCALENDAR