BEGIN:VCALENDAR
VERSION:2.0
PRODID:JMS Hockey
X-PUBLISHED-TTL:P1W
BEGIN:VEVENT
UID:69e7a52a0318d
DTSTART:20170811T024000Z
SEQUENCE:0
TRANSP:OPAQUE
DTEND:20170811T041000Z
URL:http://jmshockey.com/games/10257
LOCATION:St Thomas Ice Arena
SUMMARY:All level Game at St Thomas Ice Arena
CLASS:PUBLIC
DTSTAMP:20260421T112618Z
END:VEVENT
END:VCALENDAR