BEGIN:VCALENDAR
VERSION:2.0
PRODID:JMS Hockey
X-PUBLISHED-TTL:P1W
BEGIN:VEVENT
UID:69e7f83b58032
DTSTART:20091121T040000Z
SEQUENCE:0
TRANSP:OPAQUE
DTEND:20091121T053000Z
URL:http://jmshockey.com/games/1024
LOCATION:Yackel Westside
SUMMARY:Level 2 Game at Yackel Westside
CLASS:PUBLIC
DTSTAMP:20260421T172043Z
END:VEVENT
END:VCALENDAR