BEGIN:VCALENDAR
VERSION:2.0
PRODID:JMS Hockey
X-PUBLISHED-TTL:P1W
BEGIN:VEVENT
UID:69e7b18e6b4a3
DTSTART:20170830T021500Z
SEQUENCE:0
TRANSP:OPAQUE
DTEND:20170830T034500Z
URL:http://jmshockey.com/games/10234
LOCATION:Apple Valley Hayes Park Arena
SUMMARY:Lower Level Game at Apple Valley Hayes Park Arena
CLASS:PUBLIC
DTSTAMP:20260421T121910Z
END:VEVENT
END:VCALENDAR