BEGIN:VCALENDAR
VERSION:2.0
PRODID:JMS Hockey
X-PUBLISHED-TTL:P1W
BEGIN:VEVENT
UID:69e787f884510
DTSTART:20170728T012000Z
SEQUENCE:0
TRANSP:OPAQUE
DTEND:20170728T025000Z
URL:http://jmshockey.com/games/10230
LOCATION:Woodbury Bielenberg
SUMMARY:Lower Level Game at Woodbury Bielenberg
CLASS:PUBLIC
DTSTAMP:20260421T092144Z
END:VEVENT
END:VCALENDAR