BEGIN:VCALENDAR
VERSION:2.0
PRODID:JMS Hockey
X-PUBLISHED-TTL:P1W
BEGIN:VEVENT
UID:69e7735f07ccb
DTSTART:20170718T010000Z
SEQUENCE:0
TRANSP:OPAQUE
DTEND:20170718T023000Z
URL:http://jmshockey.com/games/10220
LOCATION:Doug Woog Arena (Wakota)
SUMMARY:Lower Level Game at Doug Woog Arena (Wakota)
CLASS:PUBLIC
DTSTAMP:20260421T075351Z
END:VEVENT
END:VCALENDAR