BEGIN:VCALENDAR
VERSION:2.0
PRODID:JMS Hockey
X-PUBLISHED-TTL:P1W
BEGIN:VEVENT
UID:69e7b140208ad
DTSTART:20170713T015000Z
SEQUENCE:0
TRANSP:OPAQUE
DTEND:20170713T032000Z
URL:http://jmshockey.com/games/10214
LOCATION:Doug Woog Arena (Wakota)
SUMMARY:Level 3 Game at Doug Woog Arena (Wakota)
CLASS:PUBLIC
DTSTAMP:20260421T121752Z
END:VEVENT
END:VCALENDAR