BEGIN:VCALENDAR
VERSION:2.0
PRODID:JMS Hockey
X-PUBLISHED-TTL:P1W
BEGIN:VEVENT
UID:69e787b08e057
DTSTART:20170726T023000Z
SEQUENCE:0
TRANSP:OPAQUE
DTEND:20170726T040000Z
URL:http://jmshockey.com/games/10194
LOCATION:St Louis Park Rec Center
SUMMARY:Lower Level Game at St Louis Park Rec Center
CLASS:PUBLIC
DTSTAMP:20260421T092032Z
END:VEVENT
END:VCALENDAR