BEGIN:VCALENDAR
VERSION:2.0
PRODID:JMS Hockey
X-PUBLISHED-TTL:P1W
BEGIN:VEVENT
UID:69e7e9834be11
DTSTART:20091119T034500Z
SEQUENCE:0
TRANSP:OPAQUE
DTEND:20091119T051500Z
URL:http://jmshockey.com/games/1019
LOCATION:Bloomington Ice Gardens
SUMMARY:Level 4 Game at Bloomington Ice Gardens
CLASS:PUBLIC
DTSTAMP:20260421T161755Z
END:VEVENT
END:VCALENDAR