BEGIN:VCALENDAR
VERSION:2.0
PRODID:JMS Hockey
X-PUBLISHED-TTL:P1W
BEGIN:VEVENT
UID:69e7e9dc1fefc
DTSTART:20170729T003000Z
SEQUENCE:0
TRANSP:OPAQUE
DTEND:20170729T020000Z
URL:http://jmshockey.com/games/10174
LOCATION:Rosemount Arena
SUMMARY:Lower Level Game at Rosemount Arena
CLASS:PUBLIC
DTSTAMP:20260421T161924Z
END:VEVENT
END:VCALENDAR