BEGIN:VCALENDAR
VERSION:2.0
PRODID:JMS Hockey
X-PUBLISHED-TTL:P1W
BEGIN:VEVENT
UID:69e9ee32581ce
DTSTART:20170722T011500Z
SEQUENCE:0
TRANSP:OPAQUE
DTEND:20170722T024500Z
URL:http://jmshockey.com/games/10167
LOCATION:Roseville Skating Center
SUMMARY:Lower Level Game at Roseville Skating Center
CLASS:PUBLIC
DTSTAMP:20260423T050226Z
END:VEVENT
END:VCALENDAR