BEGIN:VCALENDAR
VERSION:2.0
PRODID:JMS Hockey
X-PUBLISHED-TTL:P1W
BEGIN:VEVENT
UID:69e79a177212d
DTSTART:20170707T020000Z
SEQUENCE:0
TRANSP:OPAQUE
DTEND:20170707T033000Z
URL:http://jmshockey.com/games/10155
LOCATION:Maple Grove
SUMMARY:Lower Level Game at Maple Grove
CLASS:PUBLIC
DTSTAMP:20260421T103903Z
END:VEVENT
END:VCALENDAR