BEGIN:VCALENDAR
VERSION:2.0
PRODID:JMS Hockey
X-PUBLISHED-TTL:P1W
BEGIN:VEVENT
UID:69e7cb92bc294
DTSTART:20170726T010000Z
SEQUENCE:0
TRANSP:OPAQUE
DTEND:20170726T023000Z
URL:http://jmshockey.com/games/10153
LOCATION:Eden Prairie Comm Ctr
SUMMARY:Upper Level Game at Eden Prairie Comm Ctr
CLASS:PUBLIC
DTSTAMP:20260421T141010Z
END:VEVENT
END:VCALENDAR