BEGIN:VCALENDAR
VERSION:2.0
PRODID:JMS Hockey
X-PUBLISHED-TTL:P1W
BEGIN:VEVENT
UID:69e7d53d5e933
DTSTART:20170712T010000Z
SEQUENCE:0
TRANSP:OPAQUE
DTEND:20170712T023000Z
URL:http://jmshockey.com/games/10151
LOCATION:Eden Prairie Comm Ctr
SUMMARY:Upper Level Game at Eden Prairie Comm Ctr
CLASS:PUBLIC
DTSTAMP:20260421T145125Z
END:VEVENT
END:VCALENDAR