BEGIN:VCALENDAR
VERSION:2.0
PRODID:JMS Hockey
X-PUBLISHED-TTL:P1W
BEGIN:VEVENT
UID:69e7adb8a1e5b
DTSTART:20170719T014500Z
SEQUENCE:0
TRANSP:OPAQUE
DTEND:20170719T031500Z
URL:http://jmshockey.com/games/10143
LOCATION:Apple Valley Hayes Park Arena
SUMMARY:Lower Level Game at Apple Valley Hayes Park Arena
CLASS:PUBLIC
DTSTAMP:20260421T120248Z
END:VEVENT
END:VCALENDAR