BEGIN:VCALENDAR
VERSION:2.0
PRODID:JMS Hockey
X-PUBLISHED-TTL:P1W
BEGIN:VEVENT
UID:69e78583a1ab7
DTSTART:20170626T021000Z
SEQUENCE:0
TRANSP:OPAQUE
DTEND:20170626T034000Z
URL:http://jmshockey.com/games/10111
LOCATION:Highland Arena
SUMMARY:Novice Game at Highland Arena
CLASS:PUBLIC
DTSTAMP:20260421T091115Z
END:VEVENT
END:VCALENDAR