BEGIN:VCALENDAR
VERSION:2.0
PRODID:JMS Hockey
X-PUBLISHED-TTL:P1W
BEGIN:VEVENT
UID:69e783b61f7df
DTSTART:20170515T024000Z
SEQUENCE:0
TRANSP:OPAQUE
DTEND:20170515T041000Z
URL:http://jmshockey.com/games/10108
LOCATION:Highland Arena
SUMMARY:Novice Game at Highland Arena
CLASS:PUBLIC
DTSTAMP:20260421T090334Z
END:VEVENT
END:VCALENDAR