BEGIN:VCALENDAR
VERSION:2.0
PRODID:JMS Hockey
X-PUBLISHED-TTL:P1W
BEGIN:VEVENT
UID:69e7ada28013a
DTSTART:20170608T233000Z
SEQUENCE:0
TRANSP:OPAQUE
DTEND:20170609T010000Z
URL:http://jmshockey.com/games/10094
LOCATION:Maple Grove
SUMMARY:Lower Level Game at Maple Grove
CLASS:PUBLIC
DTSTAMP:20260421T120226Z
END:VEVENT
END:VCALENDAR