BEGIN:VCALENDAR
VERSION:2.0
PRODID:JMS Hockey
X-PUBLISHED-TTL:P1W
BEGIN:VEVENT
UID:69e7d474ae2bc
DTSTART:20170702T024000Z
SEQUENCE:0
TRANSP:OPAQUE
DTEND:20170702T041000Z
URL:http://jmshockey.com/games/10092
LOCATION:St Thomas Ice Arena
SUMMARY:All level Game at St Thomas Ice Arena
CLASS:PUBLIC
DTSTAMP:20260421T144804Z
END:VEVENT
END:VCALENDAR