BEGIN:VCALENDAR
VERSION:2.0
PRODID:JMS Hockey
X-PUBLISHED-TTL:P1W
BEGIN:VEVENT
UID:69e7c17358970
DTSTART:20170513T184500Z
SEQUENCE:0
TRANSP:OPAQUE
DTEND:20170513T194500Z
URL:http://jmshockey.com/games/10078
LOCATION:Parade Ice Gardens
SUMMARY:Novice Game at Parade Ice Gardens
CLASS:PUBLIC
DTSTAMP:20260421T132659Z
END:VEVENT
END:VCALENDAR