BEGIN:VCALENDAR
VERSION:2.0
PRODID:JMS Hockey
X-PUBLISHED-TTL:P1W
BEGIN:VEVENT
UID:69e7c313b41cc
DTSTART:20170520T020000Z
SEQUENCE:0
TRANSP:OPAQUE
DTEND:20170520T033000Z
URL:http://jmshockey.com/games/10074
LOCATION:Schwan Superrink
SUMMARY:All level Game at Schwan Superrink
CLASS:PUBLIC
DTSTAMP:20260421T133355Z
END:VEVENT
END:VCALENDAR