BEGIN:VCALENDAR
VERSION:2.0
PRODID:JMS Hockey
X-PUBLISHED-TTL:P1W
BEGIN:VEVENT
UID:69e7d4746d47c
DTSTART:20170516T024000Z
SEQUENCE:0
TRANSP:OPAQUE
DTEND:20170516T041000Z
URL:http://jmshockey.com/games/10068
LOCATION:St Thomas Ice Arena
SUMMARY:Elite Game at St Thomas Ice Arena
CLASS:PUBLIC
DTSTAMP:20260421T144804Z
END:VEVENT
END:VCALENDAR