BEGIN:VCALENDAR
VERSION:2.0
PRODID:JMS Hockey
X-PUBLISHED-TTL:P1W
BEGIN:VEVENT
UID:69e789e3f31a5
DTSTART:20170519T024000Z
SEQUENCE:0
TRANSP:OPAQUE
DTEND:20170519T041000Z
URL:http://jmshockey.com/games/10064
LOCATION:St Thomas Ice Arena
SUMMARY:All level Game at St Thomas Ice Arena
CLASS:PUBLIC
DTSTAMP:20260421T092955Z
END:VEVENT
END:VCALENDAR