BEGIN:VCALENDAR
VERSION:2.0
PRODID:JMS Hockey
X-PUBLISHED-TTL:P1W
BEGIN:VEVENT
UID:69e7878948ca3
DTSTART:20170512T024000Z
SEQUENCE:0
TRANSP:OPAQUE
DTEND:20170512T041000Z
URL:http://jmshockey.com/games/10063
LOCATION:St Thomas Ice Arena
SUMMARY:All level Game at St Thomas Ice Arena
CLASS:PUBLIC
DTSTAMP:20260421T091953Z
END:VEVENT
END:VCALENDAR