BEGIN:VCALENDAR
VERSION:2.0
PRODID:JMS Hockey
X-PUBLISHED-TTL:P1W
BEGIN:VEVENT
UID:69e79f70f18bb
DTSTART:20170610T003000Z
SEQUENCE:0
TRANSP:OPAQUE
DTEND:20170610T020000Z
URL:http://jmshockey.com/games/10031
LOCATION:Rosemount Arena
SUMMARY:Intermediate Game at Rosemount Arena
CLASS:PUBLIC
DTSTAMP:20260421T110152Z
END:VEVENT
END:VCALENDAR