BEGIN:VCALENDAR
VERSION:2.0
PRODID:JMS Hockey
X-PUBLISHED-TTL:P1W
BEGIN:VEVENT
UID:69e7730f1515f
DTSTART:20170513T011000Z
SEQUENCE:0
TRANSP:OPAQUE
DTEND:20170513T024000Z
URL:http://jmshockey.com/games/10028
LOCATION:Doug Woog Arena (Wakota)
SUMMARY:Intermediate Game at Doug Woog Arena (Wakota)
CLASS:PUBLIC
DTSTAMP:20260421T075231Z
END:VEVENT
END:VCALENDAR