BEGIN:VCALENDAR
VERSION:2.0
PRODID:JMS Hockey
X-PUBLISHED-TTL:P1W
BEGIN:VEVENT
UID:69e7bf8d8370a
DTSTART:20170511T011500Z
SEQUENCE:0
TRANSP:OPAQUE
DTEND:20170511T024500Z
URL:http://jmshockey.com/games/10021
LOCATION:White Bear Sports Ctr
SUMMARY:Lower Level Game at White Bear Sports Ctr
CLASS:PUBLIC
DTSTAMP:20260421T131853Z
END:VEVENT
END:VCALENDAR